BEGIN:VCALENDAR
VERSION:2.0
PRODID:-//Asociación Amigos de Unamuno en Salamanca - ECPv6.15.20//NONSGML v1.0//EN
CALSCALE:GREGORIAN
METHOD:PUBLISH
X-ORIGINAL-URL:https://amigosdeunamuno.es
X-WR-CALDESC:Eventos para Asociación Amigos de Unamuno en Salamanca
REFRESH-INTERVAL;VALUE=DURATION:PT1H
X-Robots-Tag:noindex
X-PUBLISHED-TTL:PT1H
BEGIN:VTIMEZONE
TZID:Europe/Madrid
BEGIN:DAYLIGHT
TZOFFSETFROM:+0100
TZOFFSETTO:+0200
TZNAME:CEST
DTSTART:20250330T010000
END:DAYLIGHT
BEGIN:STANDARD
TZOFFSETFROM:+0200
TZOFFSETTO:+0100
TZNAME:CET
DTSTART:20251026T010000
END:STANDARD
BEGIN:DAYLIGHT
TZOFFSETFROM:+0100
TZOFFSETTO:+0200
TZNAME:CEST
DTSTART:20260329T010000
END:DAYLIGHT
BEGIN:STANDARD
TZOFFSETFROM:+0200
TZOFFSETTO:+0100
TZNAME:CET
DTSTART:20261025T010000
END:STANDARD
BEGIN:DAYLIGHT
TZOFFSETFROM:+0100
TZOFFSETTO:+0200
TZNAME:CEST
DTSTART:20270328T010000
END:DAYLIGHT
BEGIN:STANDARD
TZOFFSETFROM:+0200
TZOFFSETTO:+0100
TZNAME:CET
DTSTART:20271031T010000
END:STANDARD
END:VTIMEZONE
BEGIN:VEVENT
DTSTART;TZID=Europe/Madrid:20260212T193000
DTEND;TZID=Europe/Madrid:20260212T203000
DTSTAMP:20260424T144622
CREATED:20251209T123000Z
LAST-MODIFIED:20251209T123000Z
UID:17970-1770924600-1770928200@amigosdeunamuno.es
SUMMARY:Miguel de Unamuno y Luigi Pirandello: vidas y obras paralelas
DESCRIPTION:Conferencia: Miguel de Unamuno y Luigi Pirandello: vidas y obras paralelas. \n\n\nVicente González Martín\n \nCatedrático emérito honorífico de la USAL\n\n\n\nFrancisco Blanco Prieto\n \nPresidente de Honor de la Asociación
URL:https://amigosdeunamuno.es/event/miguel-de-unamuno-y-luigi-pirandello-vidas-y-obras-paralelas/
LOCATION:Casa Museo Unamuno (Salón Rectoral)\, Calle Libreros\, Salamanca
CATEGORIES:Conferencias
END:VEVENT
END:VCALENDAR