BEGIN:VCALENDAR
VERSION:2.0
PRODID:-//Asociación Amigos de Unamuno en Salamanca - ECPv6.15.20//NONSGML v1.0//EN
CALSCALE:GREGORIAN
METHOD:PUBLISH
X-WR-CALNAME:Asociación Amigos de Unamuno en Salamanca
X-ORIGINAL-URL:https://amigosdeunamuno.es
X-WR-CALDESC:Eventos para Asociación Amigos de Unamuno en Salamanca
REFRESH-INTERVAL;VALUE=DURATION:PT1H
X-Robots-Tag:noindex
X-PUBLISHED-TTL:PT1H
BEGIN:VTIMEZONE
TZID:Europe/Madrid
BEGIN:DAYLIGHT
TZOFFSETFROM:+0100
TZOFFSETTO:+0200
TZNAME:CEST
DTSTART:20240331T010000
END:DAYLIGHT
BEGIN:STANDARD
TZOFFSETFROM:+0200
TZOFFSETTO:+0100
TZNAME:CET
DTSTART:20241027T010000
END:STANDARD
BEGIN:DAYLIGHT
TZOFFSETFROM:+0100
TZOFFSETTO:+0200
TZNAME:CEST
DTSTART:20250330T010000
END:DAYLIGHT
BEGIN:STANDARD
TZOFFSETFROM:+0200
TZOFFSETTO:+0100
TZNAME:CET
DTSTART:20251026T010000
END:STANDARD
BEGIN:DAYLIGHT
TZOFFSETFROM:+0100
TZOFFSETTO:+0200
TZNAME:CEST
DTSTART:20260329T010000
END:DAYLIGHT
BEGIN:STANDARD
TZOFFSETFROM:+0200
TZOFFSETTO:+0100
TZNAME:CET
DTSTART:20261025T010000
END:STANDARD
END:VTIMEZONE
BEGIN:VEVENT
DTSTART;TZID=Europe/Madrid:20251211T190000
DTEND;TZID=Europe/Madrid:20251211T200000
DTSTAMP:20260420T142903
CREATED:20241215T103714Z
LAST-MODIFIED:20250919T074834Z
UID:17134-1765479600-1765483200@amigosdeunamuno.es
SUMMARY:Mesa Redonda: Unamuno publicista
DESCRIPTION:Mesa Redonda: Unamuno publicista. \n\n\n«Prensa y propaganda en la Guerra Civil»: Luis Castro Berrojo. Historiador\n«Normativas legales»: Javier Martín Lázaro (Jotamar)\, Escritor\n«Los intelectuales españoles ante la Guerra Civil» : Luciano de Dios Villanueva. Vocal de relaciones Locales de la Asociación\n\n  \n\n\nPresenta y Modera:\n\n Francisco Blanco Prieto. Presidente de honor de la Asociación
URL:https://amigosdeunamuno.es/event/mesa-redonda-unamuno-publicista/
LOCATION:Centro Documental de la Memoria Histórica\, Plaza de los Bandos\, Salamanca\, 37002
CATEGORIES:Conferencias
END:VEVENT
BEGIN:VEVENT
DTSTART;TZID=Europe/Madrid:20251211T201500
DTEND;TZID=Europe/Madrid:20251211T210000
DTSTAMP:20260420T142903
CREATED:20241215T104518Z
LAST-MODIFIED:20241215T104518Z
UID:17141-1765484100-1765486800@amigosdeunamuno.es
SUMMARY:Presentación del nº 12 de la Revista NIVOLA y programa de actividades para 2026
DESCRIPTION:Presentación del número 12 de la revista NIVOLA y Programa de actividades del año 2026 \n  \n\nLuis Gutiérrez Barrio\n \nPresidente de la Asociación\n\n\n\nRomán Álvarez Rodríguez\n \nVicepresidente de la Asociación\n\n\n\nPilar Hernández Romeo\n \nVocal de Coordinación de Actividades
URL:https://amigosdeunamuno.es/event/presentacion-del-no-12-de-la-revista-nivola-y-programa-de-actividades-para-2026/
LOCATION:Centro Cultural Hispano Japonés\, Plaza San Boal\, 11-13\, Salamanca\, Salamanca\, 37002\, Spain
CATEGORIES:Presentación
END:VEVENT
BEGIN:VEVENT
DTSTART;TZID=Europe/Madrid:20251231T130000
DTEND;TZID=Europe/Madrid:20251231T210000
DTSTAMP:20260420T142903
CREATED:20241215T113856Z
LAST-MODIFIED:20241215T113856Z
UID:17145-1767186000-1767214800@amigosdeunamuno.es
SUMMARY:Homenaje a Miguel de Unamuno
DESCRIPTION:Homenaje anual en el aniversario del fallecimiento de don Miguel \nEn colaboración con el Excelentísimo Ayuntamiento de Salamanca \n  \n\nLuis Gutiérrez Barrio\n \nPresidente de la Asociación\n\n\n\nRomán Álvarez Rodríguez\n \nVicepresidente de la Asociación\n\n\n\nFrancisco Blanco Prieto\n \nPresidente de honor de la Asociación
URL:https://amigosdeunamuno.es/event/homenaje-a-miguel-de-unamuno/
LOCATION:Calle Bordadores\, Calle Bordadores\, Salamanca
CATEGORIES:Presentación
END:VEVENT
END:VCALENDAR